BEGIN:VCALENDAR
VERSION:2.0
PRODID:-//Tukios.com/
BEGIN:VEVENT
UID:fc2525c3-cbac-461e-a43b-bd22ad5ea926@www.funeraria-latina.com
DTSTAMP:20260419T161753Z
DTSTART:20260501T000000Z
DTEND:20260501T040000Z
SUMMARY:Visitation
DESCRIPTION:La Familia Inmediata puede llegar una hora antes para estar 
	en intimidad con su ser querido seria de 4:00pm a 5:00pm de las 5:00pm en 
	a delante se habría las puertas para todos en general.
URL:https://www.funeraria-latina.com/obituaries/maria-herrera-sorchaga
LOCATION: 2530 N Grand Ave  Santa Ana CA 92705
GEO:33.7713272;-117.8527466
END:VEVENT
END:VCALENDAR