BEGIN:VCALENDAR
VERSION:2.0
PRODID:-//Tukios.com/
BEGIN:VEVENT
UID:4ee6b462-7b32-47df-be43-a9e1f27c6d47@www.funeraria-latina.com
DTSTAMP:20260421T083405Z
DTSTART:20260430T000000Z
DTEND:20260430T040000Z
SUMMARY:Burial
DESCRIPTION:El Santo rosario dará inicio con una explicación biblica y 
	al terminar el Santo Rosario dará inicio la liturgia en Nombre del 
	Señor José María Luna Orozco
URL:https://www.funeraria-latina.com/obituaries/jose-luna-orozco
LOCATION: 2530 N Grand Ave  Santa Ana CA 92705
GEO:33.7713272;-117.8527466
END:VEVENT
END:VCALENDAR